BEGIN:VCALENDAR
VERSION:2.0
PRODID:-//Plone.org//NONSGML plone.app.event//EN
X-WR-TIMEZONE:Europe/Berlin
BEGIN:VEVENT
SUMMARY:Patrimoni del Mediterraneo: comunità alleanze e orizzonti comuni
DTSTART;TZID=Europe/Berlin;VALUE=DATE-TIME:20260417T070000
DTEND;TZID=Europe/Berlin;VALUE=DATE-TIME:20260419T080000
DTSTAMP;VALUE=DATE-TIME:20260421T161441Z
UID:8e976435de184778afae7c5a8f737dee@www.isprambiente.gov.it
CONTACT:https://www.icom-italia.org/patrimoni-del-mediterraneo-comunita-al
 leanze-e-orizzonti-comuni-assemblea-nazionale-dei-soci-di-icom-italia-e-co
 nvegno-bari-17-19-aprile-2026/
CREATED;VALUE=DATE-TIME:20260323T063039Z
LAST-MODIFIED;VALUE=DATE-TIME:20260323T063047Z
URL:https://www.isprambiente.gov.it/it/attivita/museo/calendario-eventi/20
 26/patrimoni-del-mediterraneo-comunita-alleanze-e-orizzonti-comuni
END:VEVENT
BEGIN:VTIMEZONE
TZID:Europe/Berlin
X-LIC-LOCATION:Europe/Berlin
BEGIN:DAYLIGHT
DTSTART;VALUE=DATE-TIME:20260329T030000
TZNAME:CEST
TZOFFSETFROM:+0100
TZOFFSETTO:+0200
END:DAYLIGHT
END:VTIMEZONE
END:VCALENDAR
