BEGIN:VCALENDAR
VERSION:2.0
PRODID:-//Plone.org//NONSGML plone.app.event//EN
X-WR-TIMEZONE:Europe/Berlin
BEGIN:VEVENT
SUMMARY:Per un progetto di MetaMuseo
DTSTART;TZID=Europe/Berlin;VALUE=DATE-TIME:20260428T130000
DTEND;TZID=Europe/Berlin;VALUE=DATE-TIME:20260428T140000
DTSTAMP;VALUE=DATE-TIME:20260423T121850Z
UID:0bdd928068704febb3eb3785d68604e0@www.isprambiente.gov.it
CONTACT:https://www.lincei.it/it/manifestazioni/un-progetto-di-metamuseo
CREATED;VALUE=DATE-TIME:20260327T121310Z
LAST-MODIFIED;VALUE=DATE-TIME:20260327T121318Z
URL:https://www.isprambiente.gov.it/it/attivita/museo/calendario-eventi/20
 26/per-un-progetto-di-metamuseo
END:VEVENT
BEGIN:VTIMEZONE
TZID:Europe/Berlin
X-LIC-LOCATION:Europe/Berlin
BEGIN:DAYLIGHT
DTSTART;VALUE=DATE-TIME:20260329T030000
TZNAME:CEST
TZOFFSETFROM:+0100
TZOFFSETTO:+0200
END:DAYLIGHT
END:VTIMEZONE
END:VCALENDAR
