BEGIN:VCALENDAR
VERSION:2.0
PRODID:-//Plone.org//NONSGML plone.app.event//EN
X-WR-TIMEZONE:Europe/Berlin
BEGIN:VEVENT
SUMMARY:Vene di luce: acquarelli minerali\, mostra alla MEM
DTSTART;TZID=Europe/Berlin;VALUE=DATE-TIME:20260323T070000
DTEND;TZID=Europe/Berlin;VALUE=DATE-TIME:20260416T080000
DTSTAMP;VALUE=DATE-TIME:20260423T104916Z
UID:56a7eb8f38de45e98b53e8e8f67edb86@www.isprambiente.gov.it
CONTACT:https://www.comune.cagliari.it/portale/page/it/vene_di_luce_acquar
 elli_minerali_mostra_alla_mem?contentId=NVT253355#!/%23articolo-par-info
CREATED;VALUE=DATE-TIME:20260323T063925Z
LAST-MODIFIED;VALUE=DATE-TIME:20260323T063934Z
URL:https://www.isprambiente.gov.it/it/attivita/museo/calendario-eventi/20
 26/vene-di-luce-acquarelli-minerali-mostra-alla-mem
END:VEVENT
BEGIN:VTIMEZONE
TZID:Europe/Berlin
X-LIC-LOCATION:Europe/Berlin
BEGIN:STANDARD
DTSTART;VALUE=DATE-TIME:20251026T020000
TZNAME:CET
TZOFFSETFROM:+0200
TZOFFSETTO:+0100
END:STANDARD
BEGIN:DAYLIGHT
DTSTART;VALUE=DATE-TIME:20260329T030000
TZNAME:CEST
TZOFFSETFROM:+0100
TZOFFSETTO:+0200
END:DAYLIGHT
END:VTIMEZONE
END:VCALENDAR
