BEGIN:VCALENDAR
VERSION:2.0
PRODID:-//Plone.org//NONSGML plone.app.event//EN
X-WR-TIMEZONE:Europe/Berlin
BEGIN:VEVENT
SUMMARY:Bilancio idrologico e disponibilità di risorsa idrica: aggiorname
 nto 2025\, previsioni stagionali e proiezioni climatiche
DTSTART;TZID=Europe/Berlin;VALUE=DATE-TIME:20260324T090000
DTEND;TZID=Europe/Berlin;VALUE=DATE-TIME:20260324T133000
DTSTAMP;VALUE=DATE-TIME:20260421T091411Z
UID:a8e7e50f0e8e44b1912bb7e3f6cd3f33@www.isprambiente.gov.it
CREATED;VALUE=DATE-TIME:20260301T121027Z
DESCRIPTION:In occasione   della celebrazione della Giornata Mondiale del
 l’Acqua\, l’ISPRA intende presentare l’aggiornamento   al   2025 
   delle stime delle componenti del bilancio idrologico e della disponibil
 ità naturale della risorsa idrica rinnovabile   fornite dal modello    
 BIGBANG-Bilancio Idrologico Gis BAsed a scala Nazionale su Griglia regolar
 e \, oltre che fornire le valutazioni sulla siccità 2025 e le statistiche
  idro-climatiche di lungo periodo.  Le valutazioni del BIGBANG a scala na
 zionale e di distretto idrografico per la precipitazione totale\, l'evapot
 raspirazione\, la ricarica degli acquiferi e la disponibilità di risorsa 
 idrica (cosiddetto "internal flow") costituiscono dato ufficiale nazionale
  per il flusso dati  WISE SoE - Water Quantity (WISE-3)  e per la valut
 azione del Water Exploitation Index Plus (WEI+)\, nell'ambito della    Di
 rettiva Quadro sulle Acque 2000/60/CE \, e per gli adempimenti dell'OECD/E
 urostat Joint Questionnaire Inland Waters. Inoltre\, a partire dal    Pro
 gramma Statistico Nazionale 2023-2025 \, gli indicatori del Bilancio Idrol
 ogico Nazionale prodotti mediante il BIGBANG costituiscono statistica uffi
 ciale nell'ambito del    SISTAN-Sistema Statistico Nazionale .
LAST-MODIFIED;VALUE=DATE-TIME:20260330T091212Z
LOCATION:Roma\, sede ISPRA\, via Vitaliano Brancati 48
URL:https://www.isprambiente.gov.it/it/events/bilancio-idrologico
END:VEVENT
BEGIN:VTIMEZONE
TZID:Europe/Berlin
X-LIC-LOCATION:Europe/Berlin
BEGIN:STANDARD
DTSTART;VALUE=DATE-TIME:20251026T020000
TZNAME:CET
TZOFFSETFROM:+0200
TZOFFSETTO:+0100
END:STANDARD
END:VTIMEZONE
END:VCALENDAR
