BEGIN:VCALENDAR
VERSION:2.0
PRODID:-//Plone.org//NONSGML plone.app.event//EN
X-WR-TIMEZONE:Europe/Berlin
BEGIN:VEVENT
SUMMARY:La portualità italiana e il suo monitoraggio\, i due nuovi Geo Da
 tabase di ISPRA: L’Assetto delle Opere Marittime e le Aree di Trasformaz
 ione Portuali
DTSTART;TZID=Europe/Berlin;VALUE=DATE-TIME:20260429T090000
DTEND;TZID=Europe/Berlin;VALUE=DATE-TIME:20260429T134500
DTSTAMP;VALUE=DATE-TIME:20260421T150336Z
UID:cdfb7fb777f14fe29a723e1677a3d72b@www.isprambiente.gov.it
CATEGORIES:newsletter,evidenza
CREATED;VALUE=DATE-TIME:20260331T054417Z
DESCRIPTION:Il 29 aprile 2026\, alle ore 9:00\, la Sala Conferenze dell'IS
 PRA ospiterà il convegno: “La portualità italiana e il suo monitorag
 gio\, i due nuovi GeoDB di ISPRA: L’Assetto delle Opere Marittime e le A
 ree di Trasformazione Portuali”.   Sulla base di strati informativi ad a
 lta definizione che coprono l'intero assetto costiero nazionale\, l'ISPRA 
 presenta e distribuisce due database inediti:   Assetto Opere Marittime (A
 OM)\, con la digitalizzazione e la caratterizzazione di tutte le strutture
  definibili come opere portuali\, con le loro specifiche di tipologia\, de
 stinazione e condizioni d’uso\, evoluzione nel tempo\, riferimenti ISTAT
 \, appartenenza ad Enti o Amministrazioni territoriali di riferimento\, po
 sti barca dichiarati o stimati\;   Aree di Trasformazione Portuali (ATP)\,
  con la digitalizzazione e la caratterizzazione dei poligoni di ostruzione
  (occupazione di fondale marino)\, Scavo (occupazione di territorio costie
 ro) e Alterazione (modifica delle condizioni naturali entro i bacini) di t
 utte le opere portuali costiere rispetto allo stato ante-operam.
LAST-MODIFIED;VALUE=DATE-TIME:20260420T074519Z
LOCATION:Roma\, sede ISPRA\, via Vitaliano Brancati 48
URL:https://www.isprambiente.gov.it/it/events/la-portualita-italiana-e-il-
 suo-monitoraggio-i-due-nuovi-geo-database-di-ispra
END:VEVENT
BEGIN:VTIMEZONE
TZID:Europe/Berlin
X-LIC-LOCATION:Europe/Berlin
BEGIN:DAYLIGHT
DTSTART;VALUE=DATE-TIME:20260329T030000
TZNAME:CEST
TZOFFSETFROM:+0100
TZOFFSETTO:+0200
END:DAYLIGHT
END:VTIMEZONE
END:VCALENDAR
