BEGIN:VCALENDAR
VERSION:2.0
PRODID:-//Plone.org//NONSGML plone.app.event//EN
X-WR-TIMEZONE:Europe/Berlin
BEGIN:VEVENT
SUMMARY:Proiezione documentario "The Phantom Catch - Il grande problema de
 lle reti fantasma"
DTSTART;TZID=Europe/Berlin;VALUE=DATE-TIME:20260422T170000
DTEND;TZID=Europe/Berlin;VALUE=DATE-TIME:20260422T190000
DTSTAMP;VALUE=DATE-TIME:20260422T034124Z
UID:c30568833d524149b1a7309d3736d101@www.isprambiente.gov.it
CATEGORIES:newsletter,primo piano
CREATED;VALUE=DATE-TIME:20260401T094414Z
DESCRIPTION:Il racconto del Progetto Strong Sea Life   Mercoledì 22 april
 e\, al Centro Congressi Roma Eventi Piazza di Spagna\, sarà proiettato in
  anteprima “The Phantom Catch - Il grande problema delle reti fantasma
 ”\, regia di Igor D’India\, e saranno presentati i risultati del  prog
 etto Strong Sea LIFE \, coordinato da ISPRA.   Il documentario racconta il
  viaggio lungo cinque anni che ha visto protagonisti ricercatori e sommozz
 atori per liberare il Mediterraneo da oltre 22 tonnellate di attrezzi da p
 esca persi in mare.   Dopo la proiezione\, il regista e gli esperti del pr
 ogetto dialogheranno con il pubblico per condividere i traguardi di questa
  missione\, dalla rimozione delle “reti fantasma” nel Golfo dell'Asina
 ra alla protezione della biodiversità più fragile.   L'evento si terrà 
 in presenza\, previa  iscrizione.     Programma
LAST-MODIFIED;VALUE=DATE-TIME:20260420T074434Z
LOCATION:Roma\, Centro Congressi Roma Eventi Piazza di Spagna\, Via Aliber
 t\, 5/a
URL:https://www.isprambiente.gov.it/it/events/the-phantom-catch-il-grande-
 problema-delle-reti-fantasma
END:VEVENT
BEGIN:VTIMEZONE
TZID:Europe/Berlin
X-LIC-LOCATION:Europe/Berlin
BEGIN:DAYLIGHT
DTSTART;VALUE=DATE-TIME:20260329T030000
TZNAME:CEST
TZOFFSETFROM:+0100
TZOFFSETTO:+0200
END:DAYLIGHT
END:VTIMEZONE
END:VCALENDAR
