BEGIN:VCALENDAR
VERSION:2.0
PRODID:-//Plone.org//NONSGML plone.app.event//EN
X-WR-TIMEZONE:Europe/Berlin
BEGIN:VEVENT
SUMMARY:Workshop "Fotomonitoraggio delle frane"
DTSTART;TZID=Europe/Berlin;VALUE=DATE-TIME:20260422T094500
DTEND;TZID=Europe/Berlin;VALUE=DATE-TIME:20260422T130000
DTSTAMP;VALUE=DATE-TIME:20260420T132943Z
UID:f63a6a35c22740f6a57ac3c1a17f2ea0@www.isprambiente.gov.it
CATEGORIES:newsletter,evidenza
CREATED;VALUE=DATE-TIME:20260324T071221Z
DESCRIPTION:Nel workshop verranno presentate nuove tecnologie per il monit
 oraggio delle frane\, con un focus sul fotomonitoraggio e sui risultati d
 elle sperimentazioni condotte dalla Sapienza Università di Roma su 13 si
 ti in frana sul territorio nazionale nell’ambito del progetto di infrast
 ruttura di ricerca GeoSciences IR\, finanziato dal PNRR MUR e coordinato d
 a ISPRA.    Programma     Diretta streaming su Meet
LAST-MODIFIED;VALUE=DATE-TIME:20260417T164808Z
LOCATION:Roma\, sede ISPRA\, via Vitaliano Brancati 48 e online
URL:https://www.isprambiente.gov.it/it/events/workshop-fotomonitoraggio-de
 lle-frane
END:VEVENT
BEGIN:VTIMEZONE
TZID:Europe/Berlin
X-LIC-LOCATION:Europe/Berlin
BEGIN:DAYLIGHT
DTSTART;VALUE=DATE-TIME:20260329T030000
TZNAME:CEST
TZOFFSETFROM:+0100
TZOFFSETTO:+0200
END:DAYLIGHT
END:VTIMEZONE
END:VCALENDAR
