BEGIN:VCALENDAR
VERSION:2.0
PRODID:-//Plone.org//NONSGML plone.app.event//EN
X-WR-TIMEZONE:Europe/Berlin
BEGIN:VEVENT
SUMMARY:1° Training dell'iniziativa italiana "C3S NCP for Italy" a suppor
 to del monitoraggio idro-climatico e ambientale e delle azioni di adattame
 nto ai cambiamenti climatici
DTSTART;TZID=Europe/Berlin;VALUE=DATE-TIME:20260219T090000
DTEND;TZID=Europe/Berlin;VALUE=DATE-TIME:20260219T130000
DTSTAMP;VALUE=DATE-TIME:20260421T211441Z
UID:514ee79484dc4cc6abc5ef91042732f8@www.isprambiente.gov.it
CREATED;VALUE=DATE-TIME:20260217T101501Z
DESCRIPTION:Nell'ambito del  Programma di Collaborazione Nazionale C3S pe
 r l'Italia  il 19 febbraio prende il via il primo evento di formazione  
  organizzato dall’Aeronautica Militare e dall'ISPRA.   Il training offri
 rà una panoramica sui prodotti del Servizio Copernicus C3S\, dedicato a
  fornire informazioni tangibili e autorevoli sul clima passato\, presente
  e futuro in Europa e nel resto del mondo\, e sui servizi in corso di svil
 uppo nell'iniziativa C3S NCP for Italy.
LAST-MODIFIED;VALUE=DATE-TIME:20260219T105204Z
LOCATION:Webinar
URL:https://www.isprambiente.gov.it/it/news/1-training-delliniziativa-ital
 iana-c3s-ncp-for-italy
END:VEVENT
BEGIN:VTIMEZONE
TZID:Europe/Berlin
X-LIC-LOCATION:Europe/Berlin
BEGIN:STANDARD
DTSTART;VALUE=DATE-TIME:20251026T020000
TZNAME:CET
TZOFFSETFROM:+0200
TZOFFSETTO:+0100
END:STANDARD
END:VTIMEZONE
END:VCALENDAR
