BEGIN:VCALENDAR
VERSION:2.0
PRODID:-//Plone.org//NONSGML plone.app.event//EN
X-WR-TIMEZONE:Europe/Berlin
BEGIN:VEVENT
SUMMARY:49ª sessione dei Gruppi Scientifici della Convenzione di Londra e
  20ª sessione dei Gruppi Scientifici del Protocollo di Londra
DTSTART;VALUE=DATE:20260302
DTEND;VALUE=DATE:20260307
DTSTAMP;VALUE=DATE-TIME:20260421T135043Z
UID:16de6be005bd4f07abe784099acb1fa8@www.isprambiente.gov.it
CREATED;VALUE=DATE-TIME:20260331T141847Z
DESCRIPTION:La 49ª sessione congiunta dei Gruppi Scientifici della Conven
 zione di Londra   e 20ª sessione dei Gruppi Scientifici del Protocollo d
 i Londra   si è tenuta presso la sede dell'Organizzazione Marittima Inte
 rnazionale (IMO) a Londra dal 2 al 6 marzo 2026\, presieduta dal Dott. Cri
 stian Mugnai in qualità di Presidente (Chair) e vi hanno partecipato espe
 rti/e ISPRA in presenza da remoto.
LAST-MODIFIED;VALUE=DATE-TIME:20260331T143116Z
LOCATION:Londra
URL:https://www.isprambiente.gov.it/it/news/49a-sessione-dei-gruppi-scient
 ifici-della-convenzione-di-londra-e-20a-sessione-dei-gruppi-scientifici-de
 l-protocollo-di-londra
END:VEVENT
END:VCALENDAR
