BEGIN:VCALENDAR
VERSION:2.0
PRODID:-//Plone.org//NONSGML plone.app.event//EN
X-WR-TIMEZONE:Europe/Berlin
BEGIN:VEVENT
SUMMARY:Adattarsi al futuro: la nuova strategia regionale per il clima
DTSTART;TZID=Europe/Berlin;VALUE=DATE-TIME:20260408T093000
DTEND;TZID=Europe/Berlin;VALUE=DATE-TIME:20260408T130000
DTSTAMP;VALUE=DATE-TIME:20260423T172500Z
UID:c12326b2f6c547f0a5f105699cd11869@www.isprambiente.gov.it
CREATED;VALUE=DATE-TIME:20260402T062918Z
DESCRIPTION:L'incontro rappresenta il primo appuntamento pubblico per illu
 strare gli strumenti operativi nati dalla "Legge per il clima" del 2025\, 
 sviluppati con il supporto scientifico di Fondazione Lombardia per l’Amb
 iente.     Al convegno partecipa Francesca Giordano dell'ISPRA con un inte
 rvento sugli impatti del cambiamento climatico in Italia
LAST-MODIFIED;VALUE=DATE-TIME:20260402T062931Z
LOCATION:Milano e online
URL:https://www.isprambiente.gov.it/it/news/adattarsi-al-futuro-la-nuova-s
 trategia-regionale-per-il-clima
END:VEVENT
BEGIN:VTIMEZONE
TZID:Europe/Berlin
X-LIC-LOCATION:Europe/Berlin
BEGIN:DAYLIGHT
DTSTART;VALUE=DATE-TIME:20260329T030000
TZNAME:CEST
TZOFFSETFROM:+0100
TZOFFSETTO:+0200
END:DAYLIGHT
END:VTIMEZONE
END:VCALENDAR
