BEGIN:VCALENDAR
VERSION:2.0
PRODID:-//Plone.org//NONSGML plone.app.event//EN
X-WR-TIMEZONE:Europe/Berlin
BEGIN:VEVENT
SUMMARY:Conferenza finale "Progetto LIFE STREAMS. La salvaguardia della tr
 ota mediterranea e del suo habitat"
DTSTART;TZID=Europe/Berlin;VALUE=DATE-TIME:20260428T090000
DTEND;TZID=Europe/Berlin;VALUE=DATE-TIME:20260428T163000
DTSTAMP;VALUE=DATE-TIME:20260421T235559Z
UID:b3a2c2afcc42411a89c4b27722bf21e8@www.isprambiente.gov.it
CREATED;VALUE=DATE-TIME:20260421T133211Z
DESCRIPTION:La trota mediterranea\, specie autoctona a rischio critico di 
 estinzione\, è un simbolo della conservazione delle acque interne dell’
 Appennino e della Sardegna. La sua salvaguardia è essenziale per la biod
 iversità\, minacciata da cambiamenti climatici e ibridazione con trote al
 loctone. Il  progetto Life Streams  ha lavorato al recupero e alla conserv
 azione delle popolazioni native tramite monitoraggio e gestione\, rafforza
 ndone numero e integrità ed è un elemento chiave della strategia APE 
 – Appennino Parco d’Europa\, avviata negli anni ’90 per sostenere l
 ’allora nascente sistema delle aree protette.
LAST-MODIFIED;VALUE=DATE-TIME:20260421T145218Z
LOCATION:Roma\, Spazio Sette Libreria - Via dei Barbieri 7
URL:https://www.isprambiente.gov.it/it/news/conferenza-finale-progetto-lif
 e-streams-la-salvaguardia-della-trota-mediterranea-e-del-suo-habitat
END:VEVENT
BEGIN:VTIMEZONE
TZID:Europe/Berlin
X-LIC-LOCATION:Europe/Berlin
BEGIN:DAYLIGHT
DTSTART;VALUE=DATE-TIME:20260329T030000
TZNAME:CEST
TZOFFSETFROM:+0100
TZOFFSETTO:+0200
END:DAYLIGHT
END:VTIMEZONE
END:VCALENDAR
