BEGIN:VCALENDAR
VERSION:2.0
PRODID:-//Plone.org//NONSGML plone.app.event//EN
X-WR-TIMEZONE:Europe/Berlin
BEGIN:VEVENT
SUMMARY:Corso per piloti ROV destinato ad alcune delle Aree Marine Protett
 e nell'ambito del Progetto DigitAP
DTSTART;VALUE=DATE:20260209
DTEND;VALUE=DATE:20260214
DTSTAMP;VALUE=DATE-TIME:20260420T164908Z
UID:3cb0744a3be84588ab3625a30d199541@www.isprambiente.gov.it
CREATED;VALUE=DATE-TIME:20260213T101356Z
DESCRIPTION:Nell’ambito del  progetto DigitAP\,  si è concluso il 13 f
 ebbraio una delle sessioni di formazione tecnica per  piloti ROV . Il cor
 so\, rivolto alle    Aree Marine Protette    e gestito dagli operatori e
 conomici specializzati vincitori della gara\, garantisce la piena operativ
 ità delle strumentazioni consegnate per la tutela dei nostri mari.
LAST-MODIFIED;VALUE=DATE-TIME:20260302T071112Z
LOCATION:Ischia
URL:https://www.isprambiente.gov.it/it/news/corso-per-piloti-rov-destinato
 -ad-alcune-delle-aree-marine-protette
END:VEVENT
END:VCALENDAR
