BEGIN:VCALENDAR
VERSION:2.0
PRODID:-//Plone.org//NONSGML plone.app.event//EN
X-WR-TIMEZONE:Europe/Berlin
BEGIN:VEVENT
SUMMARY:Dall’emergenza alla prevenzione: la sicurezza del territorio com
 e missione nazionale
DTSTART;TZID=Europe/Berlin;VALUE=DATE-TIME:20260312T093000
DTEND;TZID=Europe/Berlin;VALUE=DATE-TIME:20260312T130000
DTSTAMP;VALUE=DATE-TIME:20260421T134951Z
UID:e1355f84feb74ec681955cfa9e6c8fa8@www.isprambiente.gov.it
CREATED;VALUE=DATE-TIME:20260311T074632Z
DESCRIPTION:La Commissione parlamentare d’inchiesta sul rischio idrogeol
 ogico e sismico del territorio italiano organizza il 12 marzo il convegno 
 " Dall’emergenza alla prevenzione: la sicurezza del territorio come miss
 ione nazionale".   Al panel "L’Italia fragile: dati\, conoscenze e nuovi
  strumenti di monitoraggio. Vulnerabilità\, interventi e prevenzione" in
 terviene la Presidente ISPRA Maria Alessandra Gallone.
LAST-MODIFIED;VALUE=DATE-TIME:20260313T083721Z
LOCATION:Roma\, Camera dei Deputati e Web TV
URL:https://www.isprambiente.gov.it/it/news/dall2019emergenza-alla-prevenz
 ione-la-sicurezza-del-territorio-come-missione-nazionale
END:VEVENT
BEGIN:VTIMEZONE
TZID:Europe/Berlin
X-LIC-LOCATION:Europe/Berlin
BEGIN:STANDARD
DTSTART;VALUE=DATE-TIME:20251026T020000
TZNAME:CET
TZOFFSETFROM:+0200
TZOFFSETTO:+0100
END:STANDARD
END:VTIMEZONE
END:VCALENDAR
