BEGIN:VCALENDAR
VERSION:2.0
PRODID:-//Plone.org//NONSGML plone.app.event//EN
X-WR-TIMEZONE:Europe/Berlin
BEGIN:VEVENT
SUMMARY:European Ocean Days 2026 – Il ruolo dei dati per la salute degli
  oceani
DTSTART;VALUE=DATE:20260303
DTEND;VALUE=DATE:20260304
DTSTAMP;VALUE=DATE-TIME:20260421T135001Z
UID:9a69c20199824772881f37b1596b976f@www.isprambiente.gov.it
CREATED;VALUE=DATE-TIME:20260306T105052Z
DESCRIPTION:Il 3 marzo a Bruxelles\, nell’ambito degli European Ocean Da
 ys 2026\, si è svolta la sessione “Marine Knowledge for Ocean Health”
 \, dedicata al ruolo delle osservazioni oceaniche e dei dati marini nel su
 pportare la tutela degli ecosistemi marini.   Per ISPRA nel panel“Ocean
  Observation”\, dedicato alla governance e al coordinamento dei sistemi 
 di osservazione oceanica in Europa\, ha partecipato la ricercatrice Franc
 esca Catini.
LAST-MODIFIED;VALUE=DATE-TIME:20260306T105135Z
LOCATION:Bruxelles
URL:https://www.isprambiente.gov.it/it/news/european-ocean-days-2026-il-ru
 olo-dei-dati-per-la-salute-degli-oceani
END:VEVENT
END:VCALENDAR
