BEGIN:VCALENDAR
VERSION:2.0
PRODID:-//Plone.org//NONSGML plone.app.event//EN
X-WR-TIMEZONE:Europe/Berlin
BEGIN:VEVENT
SUMMARY:EX selvatici in città
DTSTART;TZID=Europe/Berlin;VALUE=DATE-TIME:20260422T150000
DTEND;TZID=Europe/Berlin;VALUE=DATE-TIME:20260422T170000
DTSTAMP;VALUE=DATE-TIME:20260421T235733Z
UID:d72fac373b664564af39544f8b63f0c4@www.isprambiente.gov.it
CREATED;VALUE=DATE-TIME:20260421T141033Z
DESCRIPTION:Sempre più spesso sentiamo parlare di invasioni di selvatici 
 in città\, alieni e non alieni\, anche gli animali che prima vivevano tra
 nquillamente nel loro ecosistema\, sia per la riduzione dello spazio natur
 ale disponibile\, sia per la modificazione di comportamenti legati alla ri
 cerca del cibo\, si sono sempre più fortemente addentrati e stabilizzati 
 negli ecosistemi urbani. Abbiamo chiamato degli specialisti nel campo che 
 ci daranno qualche spunto di riflessione.
LAST-MODIFIED;VALUE=DATE-TIME:20260421T141117Z
LOCATION:Webinar
URL:https://www.isprambiente.gov.it/it/news/ex-selvatici-in-citta
END:VEVENT
BEGIN:VTIMEZONE
TZID:Europe/Berlin
X-LIC-LOCATION:Europe/Berlin
BEGIN:DAYLIGHT
DTSTART;VALUE=DATE-TIME:20260329T030000
TZNAME:CEST
TZOFFSETFROM:+0100
TZOFFSETTO:+0200
END:DAYLIGHT
END:VTIMEZONE
END:VCALENDAR
