BEGIN:VCALENDAR
VERSION:2.0
PRODID:-//Plone.org//NONSGML plone.app.event//EN
X-WR-TIMEZONE:Europe/Berlin
BEGIN:VEVENT
SUMMARY:Geopolitica e Terre Rare. Politica\, economia\, finanza si interro
 gano sul futuro\, tra rischi e opportunità
DTSTART;TZID=Europe/Berlin;VALUE=DATE-TIME:20260317T093000
DTEND;TZID=Europe/Berlin;VALUE=DATE-TIME:20260317T123000
DTSTAMP;VALUE=DATE-TIME:20260421T135147Z
UID:f79889475c3a4f7ebb3725fad8440766@www.isprambiente.gov.it
CREATED;VALUE=DATE-TIME:20260311T073446Z
DESCRIPTION:Martedì 17 marzo 2026 si terrà a Milano\, presso l’Auditor
 ium Giorgio Squinzi di Assolombarda\, il Convegno  Geopolitica e Terre Ra
 re. Politica\, economia\, finanza si interrogano sul futuro\, tra rischi e
  opportunità \, che analizzerà il tema da molteplici prospettive: relaz
 ioni politiche ed estere\, dinamiche economiche e diplomatiche\, produzion
 e industriale\, investimenti e mercati finanziari\, fino a formulare appel
 li e proposte rivolte al governo e alle istituzioni.
LAST-MODIFIED;VALUE=DATE-TIME:20260311T092635Z
LOCATION:Milano
URL:https://www.isprambiente.gov.it/it/news/geopolitica-e-terre-rare-polit
 ica-economia-finanza-si-interrogano-sul-futuro-tra-rischi-e-opportunita
END:VEVENT
BEGIN:VTIMEZONE
TZID:Europe/Berlin
X-LIC-LOCATION:Europe/Berlin
BEGIN:STANDARD
DTSTART;VALUE=DATE-TIME:20251026T020000
TZNAME:CET
TZOFFSETFROM:+0200
TZOFFSETTO:+0100
END:STANDARD
END:VTIMEZONE
END:VCALENDAR
