BEGIN:VCALENDAR
VERSION:2.0
PRODID:-//Plone.org//NONSGML plone.app.event//EN
X-WR-TIMEZONE:Europe/Berlin
BEGIN:VEVENT
SUMMARY:Giornata mondiale della Terra 2026
DTSTART;VALUE=DATE:20260422
DTEND;VALUE=DATE:20260423
DTSTAMP;VALUE=DATE-TIME:20260422T184227Z
UID:2c5cc2ad8aca41b28c013829016f9849@www.isprambiente.gov.it
CATEGORIES:primo piano
CREATED;VALUE=DATE-TIME:20260422T095155Z
DESCRIPTION:Eventi dedicati\, iniziative di divulgazione\, campagne educat
 ive: ISPRA è in prima linea per la Giornata mondiale della Terra. La Pres
 idente M. Alessandra Gallone: "La Terra non è solo lo spazio che abitiamo
 \, è il sistema vivente che ci sostiene\, ci protegge e ci chiede respons
 abilità. In questa Giornata mondiale della Terra dobbiamo ricordarci che 
 ogni scelta - pubblica e privata - ha un impatto sul nostro futuro".    I
 SPRA e il Sistema nazionale per la protezione per l'Ambiente (SNPA) metton
 o a disposizione dati\, monitoraggi e conoscenze per favorire il lavoro de
 lle istituzioni e dei territori.    "Serve una nuova consapevolezza per t
 rasformare la sostenibilità in azione concreta prendendoci cura di noi st
 essi e delle future generazioni".
LAST-MODIFIED;VALUE=DATE-TIME:20260422T143328Z
URL:https://www.isprambiente.gov.it/it/news/giornata-mondiale-della-terra-
 2026
END:VEVENT
END:VCALENDAR
