BEGIN:VCALENDAR
VERSION:2.0
PRODID:-//Plone.org//NONSGML plone.app.event//EN
X-WR-TIMEZONE:Europe/Berlin
BEGIN:VEVENT
SUMMARY:Giornata Mondiale delle Zone Umide 2026
DTSTART;VALUE=DATE:20260202
DTEND;VALUE=DATE:20260203
DTSTAMP;VALUE=DATE-TIME:20260424T183458Z
UID:e56fa814637b494487959fad7b282c7e@www.isprambiente.gov.it
CREATED;VALUE=DATE-TIME:20260119T090122Z
DESCRIPTION:La  Giornata Mondiale delle Zone Umide     (World Wetlands D
 ay)\, il    2 febbraio \, celebra la firma avvenuta nel 1971 della  Conv
 enzione internazionale di Ramsar  sulle zone umide di importanza internaz
 ionale\, e ha come obiettivo sensibilizzare il mondo sulla grande importan
 za delle zone umide per le persone e per il nostro pianeta.      La Conve
 nzione di Ramsar definisce zone umide  “le paludi e gli acquitrini\, le
  torbiere oppure i bacini\, naturali o artificiali\, permanenti o temporan
 ei\, con acqua stagnante o corrente\, dolce\, salmastra\, o salata\, ivi c
 omprese le distese di acqua marina la cui profondità\, durante la bassa m
 area\, non supera i sei metri”.  La Convenzione è l’unico trattato i
 nternazionale sull’ambiente che si occupa di questi particolari ecosiste
 mi che\, oltre ad accogliere e conservare una ricca diversità biologica d
 i piante\, uccelli\, mammiferi\, rettili\, anfibi\, pesci e invertebrati\,
  garantiscono ingenti risorse di acqua e cibo e svolgono una funzione fon
 damentale di mitigazione dai cambiamenti climatici.      Il tema di quest'
 anno è "Zone umide e conoscenze tradizionali: celebrare il patrimonio cul
 turale". La Giornata mondiale del 2026 vuole sottolineare il ruolo senza t
 empo delle conoscenze tradizionali nel sostenere gli ecosistemi delle zone
  umide e preservare l'identità culturale.
LAST-MODIFIED;VALUE=DATE-TIME:20260322T153019Z
URL:https://www.isprambiente.gov.it/it/news/giornata-mondiale-delle-zone-u
 mide-2026
END:VEVENT
END:VCALENDAR
