BEGIN:VCALENDAR
VERSION:2.0
PRODID:-//Plone.org//NONSGML plone.app.event//EN
X-WR-TIMEZONE:Europe/Berlin
BEGIN:VEVENT
SUMMARY:Hackathon “Environmental Intelligence for Cultural Heritage and 
 Health”: ISPRA protagonista nell'innovazione per Beni Culturali e Salute
  con i dati Copernicus
DTSTART;VALUE=DATE:20260508
DTEND;VALUE=DATE:20260511
DTSTAMP;VALUE=DATE-TIME:20260421T134710Z
UID:a78b0d3925a340d2a2de96346ae02ac3@www.isprambiente.gov.it
CREATED;VALUE=DATE-TIME:20260309T102927Z
DESCRIPTION:ISPRA promuove la nuova edizione dell’Hackathon internaziona
 le “Environmental Intelligence for Cultural Heritage and Health”. L’
 evento è organizzato in stretta collaborazione con il Centro Europeo per 
 le previsioni meteorologiche a medio termine (ECMWF) ed il Forum Nazionale
  degli Utenti Copernicus e si terrà dall'8 al 10 maggio 2026 presso il Da
 ta Center dell'ECMWF nel Tecnopolo di Bologna.
LAST-MODIFIED;VALUE=DATE-TIME:20260330T091029Z
LOCATION:Bologna
URL:https://www.isprambiente.gov.it/it/news/hackathon-environmental-intell
 igence-for-cultural-heritage-and-health
END:VEVENT
END:VCALENDAR
