BEGIN:VCALENDAR
VERSION:2.0
PRODID:-//Plone.org//NONSGML plone.app.event//EN
X-WR-TIMEZONE:Europe/Berlin
BEGIN:VEVENT
SUMMARY:l valore sociale delle città. Periferie vitali: la nuova frontier
 a del vivere urbano
DTSTART;VALUE=DATE:20260423
DTEND;VALUE=DATE:20260424
DTSTAMP;VALUE=DATE-TIME:20260422T184155Z
UID:af1d961a03d04eee8b35850445c69d81@www.isprambiente.gov.it
CREATED;VALUE=DATE-TIME:20260420T091834Z
DESCRIPTION:3° Rapporto One Health del Campus Bio-medico   Un’occasione
  di confronto tra istituzioni\, esperti e stakeholder per riflettere sul r
 uolo delle periferie come motore di sviluppo\, inclusione e benessere urba
 no. Un momento di dialogo e approfondimento per immaginare insieme città
  più sostenibili\, inclusive e orientate alla salute delle persone e degl
 i ecosistemi.
LAST-MODIFIED;VALUE=DATE-TIME:20260422T121952Z
LOCATION:Roma\, Palazzo Montecitorio\, Sala della Regina
URL:https://www.isprambiente.gov.it/it/news/il-valore-sociale-delle-citta
END:VEVENT
END:VCALENDAR
