BEGIN:VCALENDAR
VERSION:2.0
PRODID:-//Plone.org//NONSGML plone.app.event//EN
X-WR-TIMEZONE:Europe/Berlin
BEGIN:VEVENT
SUMMARY:Inaugurazione dell'anno accademico dell'ISIA Roma Design
DTSTART;VALUE=DATE:20260331
DTEND;VALUE=DATE:20260401
DTSTAMP;VALUE=DATE-TIME:20260421T134845Z
UID:1c404d277c3a4e92b6461f8563fee21e@www.isprambiente.gov.it
CREATED;VALUE=DATE-TIME:20260331T143513Z
DESCRIPTION:ISIA Roma Design ha inaugurato ufficialmente oggi l’anno acc
 ademico 2025-2026 con una mattinata di incontri e confronto tra istituzion
 i\, professionisti e comunità accademica\, presso la Sala Dante dell’Is
 tituto Centrale per la Grafica a Roma.   Al centro dell’iniziativa\, una
  visione chiara: il design come   strumento per interpretare il presente 
 e costruire il futuro.    "Oggi abbiamo una grande sfida davanti: progett
 are la sostenibilità. Non basta misurare\, monitorare\, analizzare – se
 ppur fondamentale - serve anche progettare soluzioni. Il design diventa ce
 ntrale: orienta i comportamenti\, rende accessibili le scelte sostenibili\
 , traduce la complessità in soluzioni concrete" lo ha dichiarato la Pres
 idente ISPRA\, Maria Alessandra Gallone intervenuta all'inaugurazione.
LAST-MODIFIED;VALUE=DATE-TIME:20260401T090941Z
URL:https://www.isprambiente.gov.it/it/news/inaugurazione-dellanno-accadem
 ico-dellisia-roma-design
END:VEVENT
END:VCALENDAR
