BEGIN:VCALENDAR
VERSION:2.0
PRODID:-//Plone.org//NONSGML plone.app.event//EN
X-WR-TIMEZONE:Europe/Berlin
BEGIN:VEVENT
SUMMARY:ISPRA al Festival Impatta Disrupt
DTSTART;VALUE=DATE:20260413
DTEND;VALUE=DATE:20260416
DTSTAMP;VALUE=DATE-TIME:20260420T133300Z
UID:753d3a222e404e4d9866cb50f5ae8c44@www.isprambiente.gov.it
CATEGORIES:newsletter
CREATED;VALUE=DATE-TIME:20260330T095716Z
DESCRIPTION:Il Festival dell’Innovability L’evento celebra ufficialmen
 te la Giornata Mondiale dell’Innovazione delle Nazioni Unite\, inserend
 osi nel più ampio quadro delle celebrazioni italiane dell'Earth Day.   L
 ’obiettivo della manifestazione è quello di creare un laboratorio di pe
 nsiero interdisciplinare dove scienziati\, decisori politici\, leader eco
 nomici e stakeholder dell’innovazione possano confrontarsi per realizza
 re quel rinascimento verde richiesto dall'Agenda 2030.   Il  Festival Impa
 tta Disrupt  è concepito inoltre come un modulo formativo accreditato pre
 sso importanti accademie nazionali e internazionali.   L’intero ciclo 
 è riconosciuto come modulo formativo dalla Scuola di specializzazione in 
 discipline ambientali dell’ISPRA ed ogni sessione è organizzata in col
 laborazione con una università che ne riconosce il valore scientifico e 
 formativo tanto da inserirla tra i suoi seminari ufficiali. Sono state svi
 luppate partnership con Sapienza Università di Roma\, CREST-Centre for Re
 search and Engineering in Space Technologies (Université Libre de Bruxell
 es)\, LUMSA - Libera Università Maria Ss. Assunta\, Università degli Stu
 di “Magna Graecia” di Catanzaro\, Università degli Studi della Tuscia
 \, Università Telematica IUL.
LAST-MODIFIED;VALUE=DATE-TIME:20260417T131258Z
LOCATION:Roma\, Casa del Cinema
URL:https://www.isprambiente.gov.it/it/news/ispra-al-festival-impatta-disr
 upt
END:VEVENT
END:VCALENDAR
