BEGIN:VCALENDAR
VERSION:2.0
PRODID:-//Plone.org//NONSGML plone.app.event//EN
X-WR-TIMEZONE:Europe/Berlin
BEGIN:VEVENT
SUMMARY:ISPRA al Villaggio per la Terra
DTSTART;VALUE=DATE:20260416
DTEND;VALUE=DATE:20260420
DTSTAMP;VALUE=DATE-TIME:20260420T052407Z
UID:edd02809ca0c4c6a9a10ab07d69c08a4@www.isprambiente.gov.it
CATEGORIES:newsletter,primo piano
CREATED;VALUE=DATE-TIME:20260330T103050Z
DESCRIPTION:L’evento\, organizzato da Fondazione Earth Day Italia per fe
 steggiare la 56esima Giornata Mondiale della Terra delle Nazioni Unite si 
 terrà a Roma dal 16 al 19 aprile.   Quattro giornate di festa aperte a tu
 tti. Con oltre 600 eventi gratuiti e 250 organizzazioni coinvolte. Il sugg
 estivo scenario di Villa Borghese si trasforma in un palcoscenico vivace p
 er attività sportive\, culturali e artistiche. Oltre trenta sport da prat
 icare\, laboratori proposti dai principali istituti di ricerca del Paese\,
  17 piazze dedicate agli Obiettivi dell’Agenda 2030 animate da decine di
  organizzazioni. E poi concerti\, eventi live\, talk\, dj set tra il Galop
 patoio e la Terrazza del Pincio dove sarà allestito anche un mercantino d
 ell’artigianato green.     Sito Villaggio per la Terra    ISPRA organizz
 a i seguenti laboratori didattici:   16 aprile    Specie aliene    17 apri
 le    Energie rinnovabili: spegni l'inquinamento e accendi le energie puli
 te    18 aprile    Acquacoltura sostenibile    19 aprile    Campagna Facci
 amo Circolare
LAST-MODIFIED;VALUE=DATE-TIME:20260417T131250Z
LOCATION:Roma\, Terrazza del Pincio e Galoppatoio di Villa Borghese
URL:https://www.isprambiente.gov.it/it/news/ispra-al-villaggio-per-la-terr
 a
END:VEVENT
END:VCALENDAR
