BEGIN:VCALENDAR
VERSION:2.0
PRODID:-//Plone.org//NONSGML plone.app.event//EN
X-WR-TIMEZONE:Europe/Berlin
BEGIN:VEVENT
SUMMARY:Leggere il territorio\, interpretare il paesaggio\, disegnare il f
 uturo
DTSTART;VALUE=DATE:20260325
DTEND;VALUE=DATE:20260328
DTSTAMP;VALUE=DATE-TIME:20260421T134845Z
UID:21bd5512b196417d9d26490e6cb3816d@www.isprambiente.gov.it
CREATED;VALUE=DATE-TIME:20260309T122835Z
DESCRIPTION:Il paesaggio non è solo la somma di caratteristiche geofisich
 e e climatiche di un territorio\, bensì il risultato dell'interazione tr
 a l'uomo e l'ambiente. Sintesi dinamica di natura e cultura\, del modo in
  cui i popoli hanno abitato e trasformato il suolo\, il paesaggio è l’
 esito di una stratificazione di relazioni che definisce l'identità di un
  luogo. È la forma visibile dell'ambiente nella sua evoluzione storica: 
 uno spazio che non è solo fisico\, ma anche specchio della nostra percez
 ione estetica e custode dei nostri legami affettivi.
LAST-MODIFIED;VALUE=DATE-TIME:20260309T122945Z
LOCATION:Roma
URL:https://www.isprambiente.gov.it/it/news/leggere-il-territorio-interpre
 tare-il-paesaggio-disegnare-il-futuro
END:VEVENT
END:VCALENDAR
