BEGIN:VCALENDAR
VERSION:2.0
PRODID:-//Plone.org//NONSGML plone.app.event//EN
X-WR-TIMEZONE:Europe/Berlin
BEGIN:VEVENT
SUMMARY:Ricevuti dal Presidente della Repubblica i Presidenti degli Enti d
 i Ricerca
DTSTART;VALUE=DATE:20260422
DTEND;VALUE=DATE:20260423
DTSTAMP;VALUE=DATE-TIME:20260422T194416Z
UID:b9d90623d8164f8a966c1989a2f995e0@www.isprambiente.gov.it
CATEGORIES:evidenza
CREATED;VALUE=DATE-TIME:20260422T141932Z
DESCRIPTION:Il Presidente della Repubblica\, Sergio Mattarella\, ha ricevu
 to al Quirinale una delegazione dei Presidenti degli Enti di Ricerca\, gui
 data dal Ministro dell’Università e della Ricerca\, Anna Maria Bernini 
 e dal Presidente della Consulta dei Presidenti degli Enti di Ricerca\, Ant
 onio Zoccoli.   Il Presidente Mattarella ha sottolineato il ruolo della ri
 cerca per il futuro del nostro Paese e come veicolo di collaborazione e pa
 ce.   All'incontro ha partecipato anche la Presidente ISPRA e SNPA Alessan
 dra Gallone.
LAST-MODIFIED;VALUE=DATE-TIME:20260422T144046Z
URL:https://www.isprambiente.gov.it/it/news/ricevuti-dal-presidente-della-
 repubblica-i-presidenti-degli-enti-di-ricerca
END:VEVENT
END:VCALENDAR
