BEGIN:VCALENDAR
VERSION:2.0
PRODID:-//Plone.org//NONSGML plone.app.event//EN
X-WR-TIMEZONE:Europe/Berlin
BEGIN:VEVENT
SUMMARY:Risorse idriche e resilienza. Verso il quarto ciclo di gestione de
 lle acque
DTSTART;TZID=Europe/Berlin;VALUE=DATE-TIME:20260313T093000
DTEND;TZID=Europe/Berlin;VALUE=DATE-TIME:20260313T123000
DTSTAMP;VALUE=DATE-TIME:20260421T134924Z
UID:58aaa81d9dac45399413679202532475@www.isprambiente.gov.it
CREATED;VALUE=DATE-TIME:20260310T125914Z
DESCRIPTION:Venerdì 13 marzo si svolge il convegno “Risorse idriche e r
 esilienza. Verso il quarto ciclo di gestione delle acque”\, promosso dal
  Ministero dell'Ambiente e della Sicurezza Energetica insieme all’ISPRA.
  In un contesto climatico in rapida evoluzione\, il convegno pone al centr
 o il tema della governance della risorsa idrica\, come priorità strategic
 a per la tutela dell’ambiente e lo sviluppo sostenibile\, guardando al q
 uarto ciclo di pianificazione nel settore.
LAST-MODIFIED;VALUE=DATE-TIME:20260315T222626Z
LOCATION:Evento online
URL:https://www.isprambiente.gov.it/it/news/risorse-idriche-e-resilienza-v
 erso-il-quarto-ciclo-di-gestione-delle-acque
END:VEVENT
BEGIN:VTIMEZONE
TZID:Europe/Berlin
X-LIC-LOCATION:Europe/Berlin
BEGIN:STANDARD
DTSTART;VALUE=DATE-TIME:20251026T020000
TZNAME:CET
TZOFFSETFROM:+0200
TZOFFSETTO:+0100
END:STANDARD
END:VTIMEZONE
END:VCALENDAR
