BEGIN:VCALENDAR
VERSION:2.0
PRODID:-//Plone.org//NONSGML plone.app.event//EN
X-WR-TIMEZONE:Europe/Berlin
BEGIN:VEVENT
SUMMARY:Salute dei suoli al 2050: implicazioni strategiche e pratiche dell
 a Direttiva europea sul monitoraggio del suolo
DTSTART;VALUE=DATE:20260414
DTEND;VALUE=DATE:20260415
DTSTAMP;VALUE=DATE-TIME:20260421T205707Z
UID:d376e524043f48a8baeeaa4d73a514ac@www.isprambiente.gov.it
CREATED;VALUE=DATE-TIME:20260401T062715Z
DESCRIPTION:Il convegno intende approfondire le implicazioni strategiche e
  operative della Direttiva europea sul monitoraggio del suolo\, nell'ottic
 a di raggiungere l'obiettivo 'suoli sani' entro il 2050. Particolare atten
 zione sarà dedicata ai sistemi di misurazione e agli indicatori di salute
  del suolo\, oltre all’integrazione con la Politica Agricola Comune (PAC
 ) e con il Regolamento europeo CRCF sui crediti di carbonio. L'evento anal
 izzerà inoltre il ruolo della ricerca pubblica e delle agenzie ambientali
 \, presentando esperienze regionali e casi studio volti a favorire il tras
 ferimento dell’innovazione e la consulenza tecnico-professionale.
LAST-MODIFIED;VALUE=DATE-TIME:20260401T062934Z
LOCATION:Azienda sperimentale “S’Appassiu”\, Uta (CA)
URL:https://www.isprambiente.gov.it/it/news/salute-dei-suoli-al-2050-impli
 cazioni-strategiche-e-pratiche-della-direttiva-europea-sul-monitoraggio-de
 l-suolo
END:VEVENT
END:VCALENDAR
