BEGIN:VCALENDAR
VERSION:2.0
PRODID:-//Plone.org//NONSGML plone.app.event//EN
X-WR-TIMEZONE:Europe/Berlin
BEGIN:VEVENT
SUMMARY:Storie di pietra: viaggio geologico nelle basiliche romane
DTSTART;VALUE=DATE:20260418
DTEND;VALUE=DATE:20260419
DTSTAMP;VALUE=DATE-TIME:20260421T134838Z
UID:2ed52de2528d4dd3ad32c6cffeeb4667@www.isprambiente.gov.it
CATEGORIES:newsletter
CREATED;VALUE=DATE-TIME:20260401T054023Z
DESCRIPTION:Nell'ambito del  Festival delle Scienze di Roma \, ISPRA organ
 izza il 18 aprile la passeggiata geologica "Storie di pietra: viaggio geol
 ogico nelle basiliche romane".   Ricostruita dopo il devastante incendio d
 el 1823\, la Basilica di San Paolo Fuori le Mura rappresenta un important
 e esempio di recupero dell’architettura paleocristiana mantenendo il leg
 ame con la sua origine antica. Uno degli elementi distintivi dell’edific
 io è l’ampio utilizzo di pietre ornamentali\, provenienti da diverse ar
 ee del Mediterraneo. Il percorso guidato permetterà di osservare da vicin
 o queste varietà litologiche\, apprezzandone sia la qualità e il valore 
 estetico\, che il significato storico: un’occasione unica per scoprire c
 ome la bellezza architettonica si intreccia con la storia e la geologia.
LAST-MODIFIED;VALUE=DATE-TIME:20260417T131122Z
LOCATION:Roma
URL:https://www.isprambiente.gov.it/it/news/storie-di-pietra-viaggio-geolo
 gico-nelle-basiliche-romane
END:VEVENT
END:VCALENDAR
