BEGIN:VCALENDAR
VERSION:2.0
PRODID:-//Plone.org//NONSGML plone.app.event//EN
X-WR-TIMEZONE:Europe/Berlin
BEGIN:VEVENT
SUMMARY:Territorializzare il PNRR
DTSTART;VALUE=DATE:20260225
DTEND;VALUE=DATE:20260226
DTSTAMP;VALUE=DATE-TIME:20260425T195046Z
UID:a58f6e13fe5f4768a5737d8d821bd4ef@www.isprambiente.gov.it
CREATED;VALUE=DATE-TIME:20260129T072234Z
DESCRIPTION:Si terrà il prossimo 25 febbraio a Venezia presso l'Universit
 à Iuav il convegno "Territorializzare il PNRR"\, alla giornata di studi p
 arteciperà  Michele Munafò\,   Responsabile del Servizio per il sistem
 a informativo nazionale ambientale dell'ISPRA.
LAST-MODIFIED;VALUE=DATE-TIME:20260129T072350Z
LOCATION:Università Iuav di Venezia
URL:https://www.isprambiente.gov.it/it/news/territorializzare-il-pnrr
END:VEVENT
END:VCALENDAR
