BEGIN:VCALENDAR
VERSION:2.0
PRODID:-//Plone.org//NONSGML plone.app.event//EN
X-WR-TIMEZONE:Europe/Berlin
BEGIN:VEVENT
SUMMARY:Un Solo Mare Festival
DTSTART;VALUE=DATE:20260211
DTEND;VALUE=DATE:20260216
DTSTAMP;VALUE=DATE-TIME:20260420T164726Z
UID:c24d5d3dfbde408b97605f7ac8998ed8@www.isprambiente.gov.it
CREATED;VALUE=DATE-TIME:20260119T080718Z
DESCRIPTION:Dall’ 11 al 15 febbraio 2026  all’ Auditorium Parco della
  Musica Ennio Morricone  si svolgerà la  prima edizione di  Un Solo Mar
 e  \, un nuovo Festival prodotto dalla  Fondazione Musica per Roma  che 
 intende celebrare il  mare \, patrimonio condiviso e risorsa insostituibi
 le.  Il Festival  nasce dall’esigenza di creare uno spazio di confronto 
 dedicato a quel  70% della superficie del pianeta  e al  90% della sua 
 biosfera  che regola il clima\, sostiene la vita\, ci nutre e produce met
 à dell’ossigeno che respiriamo.   Biodiversità Marina e Conservazione
 \, Cambiamento Climatico e Adattamento\, Esplorazione e Tecnologie marine\
 , Blue Economy e Sviluppo sostenibile\, Governance del Mediterraneo sarann
 o i grandi temi al centro del Festival.
LAST-MODIFIED;VALUE=DATE-TIME:20260302T170449Z
LOCATION:Roma\, Auditorium Parco della Musica Ennio Morricone
URL:https://www.isprambiente.gov.it/it/news/un-solo-mare-festival
END:VEVENT
END:VCALENDAR
