BEGIN:VCALENDAR
VERSION:2.0
PRODID:-//Plone.org//NONSGML plone.app.event//EN
X-WR-TIMEZONE:Europe/Berlin
BEGIN:VEVENT
SUMMARY:Una delegazione del Montenegro in ISPRA per visita studio TAIEX (2
 4-26 marzo 2026)
DTSTART;VALUE=DATE:20260324
DTEND;VALUE=DATE:20260327
DTSTAMP;VALUE=DATE-TIME:20260420T140904Z
UID:cbc312d9ee6c4dfd89783aba47faf589@www.isprambiente.gov.it
CREATED;VALUE=DATE-TIME:20260327T124535Z
DESCRIPTION:Si è conclusa ieri 26 marzo la visita studio di tre giorni di
  una delegazione del Montenegro composta da funzionari e ispettori ambient
 ali del Ministero per l'Ecologia\, lo Sviluppo Sostenibile e lo Sviluppo d
 ella Regione Settentrionale del Montenegro e dell’Agenzia per la protezi
 one dell’Ambiente.   L’incontro è stato organizzato nell’ambito del
 lo strumento di finanziamento TAIEX della Commissione Europea per assisten
 za tecnica e il focus della visita studio del Montenegro è sui temi conne
 ssi alla Direttiva sulla responsabilità ambientale (ELD - Environmental L
 iability Directive) e alla prevenzione e riparazione del danno ambientale\
 , con particolare attenzione alle attività ispettive e alle esperienze it
 aliane ad essa connesse.
LAST-MODIFIED;VALUE=DATE-TIME:20260327T191102Z
LOCATION:Roma
URL:https://www.isprambiente.gov.it/it/news/una-delegazione-del-montenegro
 -in-ispra-per-visita-studio-taiex-24-26-marzo-2026
END:VEVENT
END:VCALENDAR
