BEGIN:VCALENDAR
VERSION:2.0
PRODID:-//Plone.org//NONSGML plone.app.event//EN
X-WR-TIMEZONE:Europe/Berlin
BEGIN:VEVENT
SUMMARY:Lezioni d'Europa
DTSTART;VALUE=DATE:20250327
DTEND;VALUE=DATE:20250328
DTSTAMP;VALUE=DATE-TIME:20260420T122631Z
UID:49acb879bd864f53be92fc309cda55b6@www.isprambiente.gov.it
CREATED;VALUE=DATE-TIME:20250331T114554Z
DESCRIPTION:Il 27 marzo\, la Partnership europea  Water4All  ha preso part
 e a "Lezioni d'Europa"\, un ciclo di webinar organizzati dai  Centri della
  rete Europe Direct \, con l'obiettivo di approfondire e divulgare alcune 
 delle priorità indicate dal "Piano di lavoro della Commissione europea”
 . L'evento ha rappresentato un'importante occasione di confronto e apprend
 imento per professionisti\, studenti e cittadini interessati alle politich
 e europee e alle sfide ambientali attuali. Nell'ambito della lezione intit
 olata "L'Unione Europea e la resilienza idrica"\, Maria Chiara Sole\, in r
 appresentanza di ISPRA\, partner della Partnership Water4All\, ha illustra
 to le molteplici attività del progetto\, contribuendo al dibattito sulle 
 strategie di gestione della risorsa idrica e sull'adattamento ai cambiamen
 ti. Durante l'incontro\, sono stati inoltre analizzati alcuni degli obiett
 ivi della Commissione Europea e le azioni intraprese dall'UE per migliorar
 e la qualità della vita dei cittadini attraverso una gestione sostenibile
  dell'acqua.
LAST-MODIFIED;VALUE=DATE-TIME:20260209T095824Z
URL:https://www.isprambiente.gov.it/it/progetti/cartella-progetti-in-corso
 /acque-interne-e-marino-costiere-1/water4all/news/lezioni-deuropa
END:VEVENT
END:VCALENDAR
