BEGIN:VCALENDAR
VERSION:2.0
PRODID:-//Plone.org//NONSGML plone.app.event//EN
X-WR-TIMEZONE:Europe/Berlin
BEGIN:VEVENT
SUMMARY:La Nature Restoration Law: prove tecniche per la redazione del Pia
 no Nazionale di Ripristino
DTSTART;TZID=Europe/Berlin;VALUE=DATE-TIME:20260130T093000
DTEND;TZID=Europe/Berlin;VALUE=DATE-TIME:20260130T170000
DTSTAMP;VALUE=DATE-TIME:20260419T142436Z
UID:e18d63ee9ed347b8a7d03f0870ec09c0@www.isprambiente.gov.it
CATEGORIES:newsletter
CREATED;VALUE=DATE-TIME:20260122T105237Z
DESCRIPTION:L'incontro è stato un’occasione di confronto tra esperienze
  europee e italiane\, con l’obiettivo di promuovere uno scambio di buone
  pratiche e riflessioni critiche sulle sfide operative e conoscitive che a
 ttendono i prossimi anni.   La prima sessione ha ospitato (online) alcuni
  relatori di diversi paesi europei che hanno condiviso il loro approccio
  e le loro strategie nella redazione del Piano nazionale di ripristino.
LAST-MODIFIED;VALUE=DATE-TIME:20260204T090258Z
LOCATION:Roma\, Orto botanico di Roma e Online
URL:https://www.isprambiente.gov.it/it/ripristino-della-natura/news/la-nat
 ure-restoration-law-prove-tecniche-per-la-redazione-del-piano-nazionale-di
 -ripristino
END:VEVENT
BEGIN:VTIMEZONE
TZID:Europe/Berlin
X-LIC-LOCATION:Europe/Berlin
BEGIN:STANDARD
DTSTART;VALUE=DATE-TIME:20251026T020000
TZNAME:CET
TZOFFSETFROM:+0200
TZOFFSETTO:+0100
END:STANDARD
END:VTIMEZONE
END:VCALENDAR
